BEGIN:VCALENDAR
VERSION:2.0
PRODID:-//SalsaNor Norway - ECPv6.15.14//NONSGML v1.0//EN
CALSCALE:GREGORIAN
METHOD:PUBLISH
X-ORIGINAL-URL:https://www.salsanor.no/en/
X-WR-CALDESC:Events for SalsaNor Norway
REFRESH-INTERVAL;VALUE=DURATION:PT1H
X-Robots-Tag:noindex
X-PUBLISHED-TTL:PT1H
BEGIN:VTIMEZONE
TZID:Europe/Oslo
BEGIN:DAYLIGHT
TZOFFSETFROM:+0100
TZOFFSETTO:+0200
TZNAME:CEST
DTSTART:20230326T010000
END:DAYLIGHT
BEGIN:STANDARD
TZOFFSETFROM:+0200
TZOFFSETTO:+0100
TZNAME:CET
DTSTART:20231029T010000
END:STANDARD
BEGIN:DAYLIGHT
TZOFFSETFROM:+0100
TZOFFSETTO:+0200
TZNAME:CEST
DTSTART:20240331T010000
END:DAYLIGHT
BEGIN:STANDARD
TZOFFSETFROM:+0200
TZOFFSETTO:+0100
TZNAME:CET
DTSTART:20241027T010000
END:STANDARD
BEGIN:DAYLIGHT
TZOFFSETFROM:+0100
TZOFFSETTO:+0200
TZNAME:CEST
DTSTART:20250330T010000
END:DAYLIGHT
BEGIN:STANDARD
TZOFFSETFROM:+0200
TZOFFSETTO:+0100
TZNAME:CET
DTSTART:20251026T010000
END:STANDARD
END:VTIMEZONE
BEGIN:VEVENT
DTSTART;TZID=Europe/Oslo:20240701T100000
DTEND;TZID=Europe/Oslo:20240705T170000
DTSTAMP:20260425T200926
CREATED:20240406T091428Z
LAST-MODIFIED:20240509T221338Z
UID:10000061-1719828000-1720198800@www.salsanor.no
SUMMARY:Karibisk Sommer Camp
DESCRIPTION:Velkommen til  KARIBISK SOMMER CAMP på Sentralen!\nI år arrangerer SalsaNor hele 2 uker med Karibisk Sommer Camp \n\nSpikkestad: 24.-28. juni på Teglen – Spikkestad kirke og kultursenter\nOslo: 1.-5. juli\, på Sentralen midt i Oslo sentrum.\nMasse gøy opplegg hver dag fra kl. 10-15 og en digg lunsj er inkludert hver dag.\n\n\n\nI Sentralens fineste rom leder Rohan Brown fra Jamaica sommerens kuleste dagcamp på Sentralen med dans\, positiv livsstil\, litt alvorsprat og mye latter!! På dager med fint vær bruker vi også parken ved Kontraskjæret ved siden av Sentralen. \nInstruktøren vår Rohan Brown er en unik idrettsutøver og instruktør\, med lang erfaring i å bruke karibisk dans og annen idrett i arbeid med ungdom. Han tar i bruk ulike karibiske danser og rytmer som reggaeton\, afrobeat og salsa\, og flere andre morsomme aktiviteter både innendørs og utendørs ved bra vær.\nVi starter dagens program kl. 10. Ca. kl. 12:15 spiser vi en bra lunsj sammen\, som er inkludert i campen så du slipper å tenke på matpakke. Hver dag er vi ferdige innen kl. 15.
URL:https://www.salsanor.no/en/arrangement/ung-karibisk-sommer-camp/
LOCATION:Sentralen\, Øvre Slottsgate 3\, Oslo\, Oslo\, Norway
ATTACH;FMTTYPE=image/png:https://www.salsanor.no/wp-content/uploads/sites/19/2024/05/TROPISK-1920-x-1080-px-scaled.avif
ORGANIZER;CN="SalsaNor":MAILTO:post@salsanor.no
GEO:59.9110262;10.7400385
X-APPLE-STRUCTURED-LOCATION;VALUE=URI;X-ADDRESS=Sentralen Øvre Slottsgate 3 Oslo Oslo Norway;X-APPLE-RADIUS=500;X-TITLE=Øvre Slottsgate 3:geo:10.7400385,59.9110262
END:VEVENT
END:VCALENDAR