BEGIN:VCALENDAR
VERSION:2.0
PRODID:-//SalsaNor Noruega - ECPv6.15.14//NONSGML v1.0//EN
CALSCALE:GREGORIAN
METHOD:PUBLISH
X-WR-CALNAME:SalsaNor Noruega
X-ORIGINAL-URL:https://www.salsanor.no/es/
X-WR-CALDESC:Eventos para SalsaNor Noruega
REFRESH-INTERVAL;VALUE=DURATION:PT1H
X-Robots-Tag:noindex
X-PUBLISHED-TTL:PT1H
BEGIN:VTIMEZONE
TZID:Europe/Oslo
BEGIN:DAYLIGHT
TZOFFSETFROM:+0100
TZOFFSETTO:+0200
TZNAME:CEST
DTSTART:20230326T010000
END:DAYLIGHT
BEGIN:STANDARD
TZOFFSETFROM:+0200
TZOFFSETTO:+0100
TZNAME:CET
DTSTART:20231029T010000
END:STANDARD
BEGIN:DAYLIGHT
TZOFFSETFROM:+0100
TZOFFSETTO:+0200
TZNAME:CEST
DTSTART:20240331T010000
END:DAYLIGHT
BEGIN:STANDARD
TZOFFSETFROM:+0200
TZOFFSETTO:+0100
TZNAME:CET
DTSTART:20241027T010000
END:STANDARD
BEGIN:DAYLIGHT
TZOFFSETFROM:+0100
TZOFFSETTO:+0200
TZNAME:CEST
DTSTART:20250330T010000
END:DAYLIGHT
BEGIN:STANDARD
TZOFFSETFROM:+0200
TZOFFSETTO:+0100
TZNAME:CET
DTSTART:20251026T010000
END:STANDARD
END:VTIMEZONE
BEGIN:VEVENT
DTSTART;TZID=Europe/Oslo:20241117T130000
DTEND;TZID=Europe/Oslo:20241117T153000
DTSTAMP:20260423T075748
CREATED:20241016T105529Z
LAST-MODIFIED:20241016T105529Z
UID:10000174-1731848400-1731857400@www.salsanor.no
SUMMARY:Dominikansk Bachata Intensivkurs – 5 timer
DESCRIPTION:Bli med på en helg med intensivt kurs i Dominikansk Bachata! Enten du vil lære denne tradisjonelle dansestilen i bachata\, fordype din kunnskap\, eller bare friske opp sosialdansen med nye dansetrinn\, er dette intensivkurset for deg. \nKurset vil dekke:\n\nFootwork\nBody moves\nStil\nMusikalitet\nPartnerwork (connection\, movements\, combos)\n\nDet vil også være tid satt av til øving på slutten av kurset. Kurset er åpent for alle nivåer\, men det er en fordel med grunnleggende kunnskap i bachata. \nInstruktør: Mona Eide \nSted: Studio Orient\, Arbeidergata 4\, Oslo \nVarighet: 2 dager\, totalt 5 timer\nTid: \n\nLørdag 16.11.2024 kl. 13:00–15:30\nSøndag 17.11.2024 kl. 13:00–15:30\n\nPriser:\n\nLørdag Bachata (som Fører): kr 550\,00\nLørdag Bachata (som Følger): kr 550\,00\nLørdag og Søndag Bachata (som Fører): kr 950\,00\nLørdag og Søndag Bachata (som Følger): kr 950\,00\n\nMedlemskap:\nMedlemskap i SalsaNor 2024 kan tegnes for kr 100\,-. Medlemskapet gir rabatt på kurs og andre SalsaNor-arrangementer som SalsaNor Rueda Congress\, Oslo Caribbean Festival\, konserter og sosialdansarrangementer. \nPåkledning:\nVi minner om at det er viktig å bruke innesko i alle saler og fellesområder for å beskytte dansegulvene. \nFølg oss på sosiale medier:\nFølg vår Facebook-side SalsaNor for oppdatert informasjon om kommende eventer\, konserter og festivaler. \nSpørsmål?\nKontakt oss på oslo@salsanor.com eller ring 932 94 512 hvis du har spørsmål om kurs eller påmelding. \nVelkommen til SalsaNor!
URL:https://www.salsanor.no/es/arrangement/dominikansk-bachata-intensivkurs-5-timer/2024-11-17/
LOCATION:Studio Orient\, Arbeidergata 4\, Oslo\, 0159
ATTACH;FMTTYPE=image/jpeg:https://www.salsanor.no/wp-content/uploads/sites/19/2024/10/bachateintensiv24-1920-x-1080-px-scaled.avif
ORGANIZER;CN="SalsaNor":MAILTO:post@salsanor.no
GEO:59.9141962;10.740927
X-APPLE-STRUCTURED-LOCATION;VALUE=URI;X-ADDRESS=Studio Orient Arbeidergata 4 Oslo 0159;X-APPLE-RADIUS=500;X-TITLE=Arbeidergata 4:geo:10.740927,59.9141962
END:VEVENT
BEGIN:VEVENT
DTSTART;TZID=Europe/Oslo:20241116T120000
DTEND;TZID=Europe/Oslo:20241116T140000
DTSTAMP:20260423T075748
CREATED:20241112T215956Z
LAST-MODIFIED:20241112T215956Z
UID:10000175-1731758400-1731765600@www.salsanor.no
SUMMARY:Ung Danseworkshop
DESCRIPTION:2 timers danseworkshop med Salsa\, Bachata & Afro-Cuban\n\nLørdag 16. november kl. 12-14 på Studio Orient i Arbeidergata 4\n(i sentrum\, like ved Stortinget t-bane\, utgang Lille Grensen) \nFor alle mellom 15 og 23 år. \nInnhold: Dominikansk bachata\, Cubansk salsa og Afro-cubansk dans. \nMona Eide er en norsk bachata-instruktør som vanligvis bor og underviser i Frankrike\, men nå er hjemme i Norge en periode. Hun vil undervise i dominikansk bachata. \nSikia Masters Heien vil undervise cubansk salsa og afro-cubansk. \nI en pause vil det også bli litt informasjon om det ukentlige tilbudet som starter i januar\, med en fast instruktør og med besøk av flere andre\, spennende instruktører gjennom året. \n2-timers workshop’ en koster kr 40 for alle medlemmer av SalsaNor Ung\, kr. 80 for andre. \nVi håper mange blir med\, og spre gjerne informasjonen til flere!
URL:https://www.salsanor.no/es/arrangement/ung-danseworkshop/
LOCATION:Studio Orient\, Arbeidergata 4\, Oslo\, 0159
ATTACH;FMTTYPE=image/jpeg:https://www.salsanor.no/wp-content/uploads/sites/19/2024/11/paint-scaled.avif
ORGANIZER;CN="SalsaNor":MAILTO:post@salsanor.no
GEO:59.9141962;10.740927
X-APPLE-STRUCTURED-LOCATION;VALUE=URI;X-ADDRESS=Studio Orient Arbeidergata 4 Oslo 0159;X-APPLE-RADIUS=500;X-TITLE=Arbeidergata 4:geo:10.740927,59.9141962
END:VEVENT
BEGIN:VEVENT
DTSTART;TZID=Europe/Oslo:20241025T140000
DTEND;TZID=Europe/Oslo:20241027T233000
DTSTAMP:20260423T075748
CREATED:20240321T144051Z
LAST-MODIFIED:20240321T144100Z
UID:10000049-1729864800-1730071800@www.salsanor.no
SUMMARY:Oslo Caribbean Festival
DESCRIPTION:Oslo Caribbean Festival is an annual event celebrating Latin-American and Afro-Caribbean culture in Norway. Art\, music and dance throughout a weekend end of October\, showcasing primarily dancers\, musicians and other artists living in Norway \nNorways’ festival for afro\, caribbean and latin culture since 2016. Concerts\, dance workshops\, stage performances\, art exhibitions\, seminars and more. 3rd weekend of October every year \nVisit oslocaribbean.com  to follow information on the next event. Or stay updated on the event facebook page
URL:https://www.salsanor.no/es/arrangement/oslo-caribbean-festival-2/
LOCATION:Rikscenen Oslo\, Trondheimsveien 2\, Oslo\, 0560
ATTACH;FMTTYPE=image/png:https://www.salsanor.no/wp-content/uploads/sites/19/2022/04/3-scaled.avif
ORGANIZER;CN="SalsaNor":MAILTO:post@salsanor.no
GEO:59.9198923;10.7608627
X-APPLE-STRUCTURED-LOCATION;VALUE=URI;X-ADDRESS=Rikscenen Oslo Trondheimsveien 2 Oslo 0560;X-APPLE-RADIUS=500;X-TITLE=Trondheimsveien 2:geo:10.7608627,59.9198923
END:VEVENT
BEGIN:VEVENT
DTSTART;VALUE=DATE:20240912
DTEND;VALUE=DATE:20240917
DTSTAMP:20260423T075748
CREATED:20230930T135555Z
LAST-MODIFIED:20230930T135555Z
UID:10000044-1726110000-1726455599@www.salsanor.no
SUMMARY:Rueda Congress 2024
DESCRIPTION:Welcome to SalsaNor’s 21th Rueda Congress!\nThe dates for 2024 is September 12th to September 15th.\nThis year the event will take place in the amazing seaside village og Loutraki\, just outside Athens\, Greece!\n\nCongress passes are available NOW!\, follow the link for sign-up!\n\nWe are very excited to see you all there!
URL:https://www.salsanor.no/es/arrangement/rueda-congress-2024/
LOCATION:CLUB HOTEL CASINO LOUTRAKI\, 48 Poseidonos Street\, Loutraki\, 203 00\, Hellas
ATTACH;FMTTYPE=image/png:https://www.salsanor.no/wp-content/uploads/sites/19/2022/04/2-scaled.avif
ORGANIZER;CN="SalsaNor":MAILTO:post@salsanor.no
GEO:37.9594925;22.9697632
X-APPLE-STRUCTURED-LOCATION;VALUE=URI;X-ADDRESS=CLUB HOTEL CASINO LOUTRAKI 48 Poseidonos Street Loutraki 203 00 Hellas;X-APPLE-RADIUS=500;X-TITLE=48 Poseidonos Street:geo:22.9697632,37.9594925
END:VEVENT
BEGIN:VEVENT
DTSTART;TZID=Europe/Oslo:20240823T180000
DTEND;TZID=Europe/Oslo:20240825T163000
DTSTAMP:20260423T075748
CREATED:20240619T090425Z
LAST-MODIFIED:20240619T090912Z
UID:10000138-1724436000-1724603400@www.salsanor.no
SUMMARY:Jubileumsfestival // SalsaNor 25 år
DESCRIPTION:Bli med på en unik jubileumsfestival over tre dager med SalsaNor! Vi feirer cubansk dans og musikk på en spektakulær måte som du ikke vil gå glipp av. Arrangementet strekker seg fra fredag til søndag og omfatter aktiviteter på flere fantastiske steder i Oslo. \nFredag 23. august på Kruttverket\, Kulturhuset ved Alnaelva  \n18:00 – 19:00: Son workshop (åpent nivå) med Mario Acea Bli med og lær son-dansen før konserten med Son Libre\, ledsaget av den populære danseren Mario Acea. \n19:00: DJ Sezar sørger for stemningen før konserten. 19:30: Son Libre\, 2 sett med levende cubansk musikk. Danseshow\, animasjoner og mer. \nBilletter: Kr. 200\,- (Kr. 150\,- for medlemmer) (Son-klassen er inkludert i konsertbillettene.) \nLørdag 24. august på Studenterlunden / Musikkpaviljongen i Karl Johans gate  \n14:00 – 15:30: GRATIS arrangement med Hovedøen Social Club\, mini-kurs\, show\, animasjoner og sosial dans. Instruktørene fra SalsaNor inviterer til dans på gatene i Oslo\, fylt med energi og glede. \nSøndag 25. august – Workshops med Mario Acea på Kruttverket  \n12:00 – 13:30: Salsa Intro (90 min) 13:45 – 14:45: Reggaeton (60 min\, åpent nivå) 15:00 – 16:30: Rueda de Casino (90 min\, øvet/videregående nivå) \nBilletter:  \n\nSalsa Intro kr. 100\,-\nØvrige workshops kr. 200\,- (Kr. 150\,- for medlemmer) \nPakke Salsa Intro & Reggaeton kr. 250\,- \nPakke Reggaeton & Rueda kr. 350\,- (Kr. 300\,- for medlemmer) \nJubileumsbillett (fredag og søndag) kr. 450\,- (Kr. 350\,- for medlemmer)\n\nOm Son Libre Son Libre er et lokalt ensemble bestående av 5 musikere fra Cuba\, Venezuela og Norge\, basert i Oslo. De spesialiserer seg på cubansk tradisjonsmusikk som salsa\, son\, cha cha cha og bolero. \nOm Mario Acea Mario Acea er en profesjonell danser fra Cuba\, tidligere hoveddanser og koreograf for El Ballett Folklorico de Trinidad. Han har undervist for SalsaNor og internasjonalt før han flyttet til Spania. \nOm DJ Sezar DJ Sezar er en internasjonalt anerkjent salsa-DJ fra Norge\, kjent for å spinne en variert musikkstil som inkluderer salsa\, rumba\, og mer. \nBli med på festen og opplev 25 år med lidenskap for salsa og latinamerikansk kultur! Caféen på Kruttverket åpner kl. 11 for de som ønsker å nyte hyggelige omgivelser ved Alnaelva før arrangementet starter.
URL:https://www.salsanor.no/es/arrangement/jubileumsfestival-salsanor-25-ar/
LOCATION:Kruttverket\, Arnljot Gellines vei 41B\, Oslo\, 0657\, Norge
ATTACH;FMTTYPE=image/jpeg:https://www.salsanor.no/wp-content/uploads/sites/19/2024/06/Salsa-til-Folket-SalsaNor-25-ar-scaled.avif
ORGANIZER;CN="SalsaNor":MAILTO:post@salsanor.no
GEO:59.904953;10.8016081
X-APPLE-STRUCTURED-LOCATION;VALUE=URI;X-ADDRESS=Kruttverket Arnljot Gellines vei 41B Oslo 0657 Norge;X-APPLE-RADIUS=500;X-TITLE=Arnljot Gellines vei 41B:geo:10.8016081,59.904953
END:VEVENT
BEGIN:VEVENT
DTSTART;TZID=Europe/Oslo:20240818T140000
DTEND;TZID=Europe/Oslo:20240818T163000
DTSTAMP:20260423T075748
CREATED:20240730T092555Z
LAST-MODIFIED:20240814T095928Z
UID:10000157-1723989600-1723998600@www.salsanor.no
SUMMARY:Introkurs
DESCRIPTION:INTROKURS\n\n\nLØRDAG 17. AUGUST PÅ STUDIO ORIENT:\n\n\n\nSalsa Intro med PABLO: Kl. 12.00 – 14.30 AVLYST\nPakke: Salsa Intro og Salsa Nybegynner/Litt Øvet med Maite: Kl. 12.00 – 14.30 AVLYST\n\n\n\nSØNDAG 18. AUGUST PÅ DANCIFY:\n\n\n\nSalsa Intro med Reidun Svabø: Kl. 14.00 – 16.30 Påmelding\nPakke: Salsa Intro og Salsa Nybegynner/Litt Øvet med Reidun Kl. 14.00 – 16.30 Påmelding
URL:https://www.salsanor.no/es/arrangement/introkurs-2/2024-08-18/
LOCATION:Studio Orient\, Arbeidergata 4\, Oslo\, 0159
ATTACH;FMTTYPE=image/jpeg:https://www.salsanor.no/wp-content/uploads/sites/19/2024/04/kursrekke-scaled.avif
ORGANIZER;CN="SalsaNor":MAILTO:post@salsanor.no
GEO:59.9141962;10.740927
X-APPLE-STRUCTURED-LOCATION;VALUE=URI;X-ADDRESS=Studio Orient Arbeidergata 4 Oslo 0159;X-APPLE-RADIUS=500;X-TITLE=Arbeidergata 4:geo:10.740927,59.9141962
END:VEVENT
BEGIN:VEVENT
DTSTART;TZID=Europe/Oslo:20240816T170000
DTEND;TZID=Europe/Oslo:20240817T020000
DTSTAMP:20260423T075748
CREATED:20240619T092636Z
LAST-MODIFIED:20240619T092636Z
UID:10000139-1723827600-1723860000@www.salsanor.no
SUMMARY:Jubileumsfestival // SalsaNor 25 år
DESCRIPTION:Bli med på jubileumsfesten til SalsaNor og opplev en uforglemmelig kveld med cubansk dans og musikk på Spor 5\, Stavanger. Vi feirer 25 år med lidenskap for salsa\, og det hele starter med et storslagent conga-tog og dans i gatene fra Arneageren til Domkirkeplassen kl. 17. \nProgramoversikt: \n\n17:00 – CONGA-TOG & DANS I GATA\nBli med på et ekte cubansk conga-tog gjennom Stavangers gater\, ledet av musikere fra Hovedøen Social Club\, danseren Mario Acea og lokale dansere. Festen avsluttes på Domkirkeplassen med salsa-minikurs\, Rueda de Casino og DJ-musikk.\n19:00 – 21:00 – WORKSHOPS MED MARIO ACEA på Spor 5\nMario Acea\, en profesjonell danser fra Cuba\, tilbyr workshops i Rueda de Casino (øvet/videregående nivå) og cubansk salsa (åpent nivå). Lær av en ekspert og få en smakebit på cubansk dansekultur.\n21:00 – 02:00 – JUBILEUMSKONSERT MED HOVEDØEN SOCIAL CLUB & DJ\nOpplev Hovedøen Social Club’s unike cubanske rytmer med en blanding av norske klassikere i karibisk stil. Festen fortsetter med DJ-musikk til sent på natt.\n\nOm Hovedøen Social Club:\nHovedøen Social Club har i over 15 år bragt cubansk livsglede og polyrytmikk til norsk popmusikk. Med Sergio Gonzales\, Ole Marius Melhuus\, Eirik Eilertsen\, Ruben Pirela\, Eduardo Cedeño og Sverre Indris Joner på scenen\, er en kveld med dem en fest for alle sanser. \nBilletter til konserten kan kjøpes på forhånd via TicketCo. For mer informasjon om arrangementet og billettpriser\, besøk nettsiden vår. \nBli med på feiringen av 25 år med SalsaNor\, og opplev salsaens magi og gleden ved å danse!
URL:https://www.salsanor.no/es/arrangement/jubileumsfestival-salsanor-25-ar-2/
LOCATION:Spor 5\, Jernbaneveien 9\, Stavanger\, 4005\, Norge
ATTACH;FMTTYPE=image/jpeg:https://www.salsanor.no/wp-content/uploads/sites/19/2024/06/Salsa-til-Folket-SalsaNor-25-ar-1-scaled.avif
ORGANIZER;CN="SalsaNor":MAILTO:post@salsanor.no
GEO:58.9666584;5.7337891
X-APPLE-STRUCTURED-LOCATION;VALUE=URI;X-ADDRESS=Spor 5 Jernbaneveien 9 Stavanger 4005 Norge;X-APPLE-RADIUS=500;X-TITLE=Jernbaneveien 9:geo:5.7337891,58.9666584
END:VEVENT
BEGIN:VEVENT
DTSTART;TZID=Europe/Oslo:20240701T100000
DTEND;TZID=Europe/Oslo:20240705T170000
DTSTAMP:20260423T075748
CREATED:20240406T091428Z
LAST-MODIFIED:20240509T221338Z
UID:10000061-1719828000-1720198800@www.salsanor.no
SUMMARY:Karibisk Sommer Camp
DESCRIPTION:Velkommen til  KARIBISK SOMMER CAMP på Sentralen!\nI år arrangerer SalsaNor hele 2 uker med Karibisk Sommer Camp \n\nSpikkestad: 24.-28. juni på Teglen – Spikkestad kirke og kultursenter\nOslo: 1.-5. juli\, på Sentralen midt i Oslo sentrum.\nMasse gøy opplegg hver dag fra kl. 10-15 og en digg lunsj er inkludert hver dag.\n\n\n\nI Sentralens fineste rom leder Rohan Brown fra Jamaica sommerens kuleste dagcamp på Sentralen med dans\, positiv livsstil\, litt alvorsprat og mye latter!! På dager med fint vær bruker vi også parken ved Kontraskjæret ved siden av Sentralen. \nInstruktøren vår Rohan Brown er en unik idrettsutøver og instruktør\, med lang erfaring i å bruke karibisk dans og annen idrett i arbeid med ungdom. Han tar i bruk ulike karibiske danser og rytmer som reggaeton\, afrobeat og salsa\, og flere andre morsomme aktiviteter både innendørs og utendørs ved bra vær.\nVi starter dagens program kl. 10. Ca. kl. 12:15 spiser vi en bra lunsj sammen\, som er inkludert i campen så du slipper å tenke på matpakke. Hver dag er vi ferdige innen kl. 15.
URL:https://www.salsanor.no/es/arrangement/ung-karibisk-sommer-camp/
LOCATION:Sentralen\, Øvre Slottsgate 3\, Oslo\, Oslo\, Norway
ATTACH;FMTTYPE=image/png:https://www.salsanor.no/wp-content/uploads/sites/19/2024/05/TROPISK-1920-x-1080-px-scaled.avif
ORGANIZER;CN="SalsaNor":MAILTO:post@salsanor.no
GEO:59.9110262;10.7400385
X-APPLE-STRUCTURED-LOCATION;VALUE=URI;X-ADDRESS=Sentralen Øvre Slottsgate 3 Oslo Oslo Norway;X-APPLE-RADIUS=500;X-TITLE=Øvre Slottsgate 3:geo:10.7400385,59.9110262
END:VEVENT
END:VCALENDAR