BEGIN:VCALENDAR
VERSION:2.0
PRODID:-//SalsaNor Noruega - ECPv6.15.14//NONSGML v1.0//EN
CALSCALE:GREGORIAN
METHOD:PUBLISH
X-WR-CALNAME:SalsaNor Noruega
X-ORIGINAL-URL:https://www.salsanor.no/es/
X-WR-CALDESC:Eventos para SalsaNor Noruega
REFRESH-INTERVAL;VALUE=DURATION:PT1H
X-Robots-Tag:noindex
X-PUBLISHED-TTL:PT1H
BEGIN:VTIMEZONE
TZID:Europe/Oslo
BEGIN:DAYLIGHT
TZOFFSETFROM:+0100
TZOFFSETTO:+0200
TZNAME:CEST
DTSTART:20230326T010000
END:DAYLIGHT
BEGIN:STANDARD
TZOFFSETFROM:+0200
TZOFFSETTO:+0100
TZNAME:CET
DTSTART:20231029T010000
END:STANDARD
BEGIN:DAYLIGHT
TZOFFSETFROM:+0100
TZOFFSETTO:+0200
TZNAME:CEST
DTSTART:20240331T010000
END:DAYLIGHT
BEGIN:STANDARD
TZOFFSETFROM:+0200
TZOFFSETTO:+0100
TZNAME:CET
DTSTART:20241027T010000
END:STANDARD
BEGIN:DAYLIGHT
TZOFFSETFROM:+0100
TZOFFSETTO:+0200
TZNAME:CEST
DTSTART:20250330T010000
END:DAYLIGHT
BEGIN:STANDARD
TZOFFSETFROM:+0200
TZOFFSETTO:+0100
TZNAME:CET
DTSTART:20251026T010000
END:STANDARD
END:VTIMEZONE
BEGIN:VEVENT
DTSTART;TZID=Europe/Oslo:20240816T170000
DTEND;TZID=Europe/Oslo:20240817T020000
DTSTAMP:20260422T173659
CREATED:20240619T092636Z
LAST-MODIFIED:20240619T092636Z
UID:10000139-1723827600-1723860000@www.salsanor.no
SUMMARY:Jubileumsfestival // SalsaNor 25 år
DESCRIPTION:Bli med på jubileumsfesten til SalsaNor og opplev en uforglemmelig kveld med cubansk dans og musikk på Spor 5\, Stavanger. Vi feirer 25 år med lidenskap for salsa\, og det hele starter med et storslagent conga-tog og dans i gatene fra Arneageren til Domkirkeplassen kl. 17. \nProgramoversikt: \n\n17:00 – CONGA-TOG & DANS I GATA\nBli med på et ekte cubansk conga-tog gjennom Stavangers gater\, ledet av musikere fra Hovedøen Social Club\, danseren Mario Acea og lokale dansere. Festen avsluttes på Domkirkeplassen med salsa-minikurs\, Rueda de Casino og DJ-musikk.\n19:00 – 21:00 – WORKSHOPS MED MARIO ACEA på Spor 5\nMario Acea\, en profesjonell danser fra Cuba\, tilbyr workshops i Rueda de Casino (øvet/videregående nivå) og cubansk salsa (åpent nivå). Lær av en ekspert og få en smakebit på cubansk dansekultur.\n21:00 – 02:00 – JUBILEUMSKONSERT MED HOVEDØEN SOCIAL CLUB & DJ\nOpplev Hovedøen Social Club’s unike cubanske rytmer med en blanding av norske klassikere i karibisk stil. Festen fortsetter med DJ-musikk til sent på natt.\n\nOm Hovedøen Social Club:\nHovedøen Social Club har i over 15 år bragt cubansk livsglede og polyrytmikk til norsk popmusikk. Med Sergio Gonzales\, Ole Marius Melhuus\, Eirik Eilertsen\, Ruben Pirela\, Eduardo Cedeño og Sverre Indris Joner på scenen\, er en kveld med dem en fest for alle sanser. \nBilletter til konserten kan kjøpes på forhånd via TicketCo. For mer informasjon om arrangementet og billettpriser\, besøk nettsiden vår. \nBli med på feiringen av 25 år med SalsaNor\, og opplev salsaens magi og gleden ved å danse!
URL:https://www.salsanor.no/es/arrangement/jubileumsfestival-salsanor-25-ar-2/
LOCATION:Spor 5\, Jernbaneveien 9\, Stavanger\, 4005\, Norge
ATTACH;FMTTYPE=image/jpeg:https://www.salsanor.no/wp-content/uploads/sites/19/2024/06/Salsa-til-Folket-SalsaNor-25-ar-1-scaled.avif
ORGANIZER;CN="SalsaNor":MAILTO:post@salsanor.no
GEO:58.9666584;5.7337891
X-APPLE-STRUCTURED-LOCATION;VALUE=URI;X-ADDRESS=Spor 5 Jernbaneveien 9 Stavanger 4005 Norge;X-APPLE-RADIUS=500;X-TITLE=Jernbaneveien 9:geo:5.7337891,58.9666584
END:VEVENT
BEGIN:VEVENT
DTSTART;TZID=Europe/Oslo:20240720T194500
DTEND;TZID=Europe/Oslo:20240721T020000
DTSTAMP:20260422T173659
CREATED:20240322T090252Z
LAST-MODIFIED:20240623T213422Z
UID:10000055-1721504700-1721527200@www.salsanor.no
SUMMARY:Avlyst: Club Havana på Sentralen
DESCRIPTION:Velkommen til Club Havana Special April Edition\, Oslo nye og etterlengtede klubb-konsept som finner sted én lørdag hver måned i Kronesalen på Sentralen. Siden åpningen i januar\, har Club Havana blitt en umiddelbar hit\, med fullt hus hver gang. Kjøp billetten din på forhånd for å sikre din plass på dansegulvet. I sommermånedene utvider vi festen til Takterrassen Kron & Mynt for danseglede under åpen himmel. \nDato og tid\n\nDato: 13. april\nTid: 18:45 – 02:00\n\nSted\n\nVenue: Kronesalen på Sentralen (5. etg.)\, Oslov\n\nProgram\n\n18:45-19:45: Salsa Workshop med Cristian Mauricio. Tema: Salsa med 1 fører – 2 følgere. Forutsetter minimum videregående nivå i salsa.\n20:00-21:00: Reggaetón Workshop med Regla Maria. Åpent nivå\, passer for alle.\n21:00-02:00: Club Havana – med DJ Sezar spiller en fin mix av salsa cubana\, salsa romántica\, med en og annen bachata og merengue.\n\nBilletter\n\nForhåndssalg (kun Club Havana): 150 NOK / 100 NOK for medlemmer av SalsaNor\nForhåndssalg (inkl. begge workshops): 400 NOK / 300 NOK for medlemmer\nForhåndssalg (inkl. 1 workshop): 300 NOK / 200 NOK for medlemmer\nI døra (kun Club Havana): 200 NOK / 150 NOK for medlemmer\nI døra (inkl. begge workshops): 450 NOK / 350 NOK for medlemmer\nI døra (inkl. 1 workshop): 350 NOK / 250 NOK for medlemmer\n\nBli medlem av SalsaNor for kun 100 NOK og nyt rabatter på eventer\, festivaler\, og dansekurs: Bli medlem her \nOm Club Havana\nClub Havana gir deg en unik opplevelse av latinmusikk i hjertet av Oslo\, kurert av Norges mest profilerte DJ for latinmusikk\, DJ Sezar. Han sørger for den perfekte musikkmiksen vi alle har savnet. Forvent spennende gjeste-DJ’er\, både lokale og internasjonale\, på utvalgte klubbkvelder. Følg med på våre sosiale mediekanaler for oppdatert informasjon. \nViktig Informasjon\n\nFull barservering tilgjengelig.\nAldersgrense: 20 år.\nClub Havana arrangeres av SalsaNor og Sezar Dokic-Duran\, i samarbeid med Sentralen.\n\nIkke gå glipp av denne spesielle utgaven av Club Havana\, der du kan fordype deg i salsa og reggaetón\, lære nye danseferdigheter og feire natten med lidenskapelige dansere fra hele byen. Sikre din plass nå for en natt med uforglemmelig moro og dans!
URL:https://www.salsanor.no/es/arrangement/club-havana-pa-sentralen-3/
LOCATION:Sentralen\, Øvre Slottsgate 3\, Oslo\, Oslo\, Norway
ATTACH;FMTTYPE=image/jpeg:https://www.salsanor.no/wp-content/uploads/sites/19/2024/03/430854090_10163171898056336_9071949225609860007_n-scaled.avif
ORGANIZER;CN="SalsaNor":MAILTO:post@salsanor.no
GEO:59.9110262;10.7400385
X-APPLE-STRUCTURED-LOCATION;VALUE=URI;X-ADDRESS=Sentralen Øvre Slottsgate 3 Oslo Oslo Norway;X-APPLE-RADIUS=500;X-TITLE=Øvre Slottsgate 3:geo:10.7400385,59.9110262
END:VEVENT
BEGIN:VEVENT
DTSTART;TZID=Europe/Oslo:20240701T100000
DTEND;TZID=Europe/Oslo:20240705T170000
DTSTAMP:20260422T173659
CREATED:20240406T091428Z
LAST-MODIFIED:20240509T221338Z
UID:10000061-1719828000-1720198800@www.salsanor.no
SUMMARY:Karibisk Sommer Camp
DESCRIPTION:Velkommen til  KARIBISK SOMMER CAMP på Sentralen!\nI år arrangerer SalsaNor hele 2 uker med Karibisk Sommer Camp \n\nSpikkestad: 24.-28. juni på Teglen – Spikkestad kirke og kultursenter\nOslo: 1.-5. juli\, på Sentralen midt i Oslo sentrum.\nMasse gøy opplegg hver dag fra kl. 10-15 og en digg lunsj er inkludert hver dag.\n\n\n\nI Sentralens fineste rom leder Rohan Brown fra Jamaica sommerens kuleste dagcamp på Sentralen med dans\, positiv livsstil\, litt alvorsprat og mye latter!! På dager med fint vær bruker vi også parken ved Kontraskjæret ved siden av Sentralen. \nInstruktøren vår Rohan Brown er en unik idrettsutøver og instruktør\, med lang erfaring i å bruke karibisk dans og annen idrett i arbeid med ungdom. Han tar i bruk ulike karibiske danser og rytmer som reggaeton\, afrobeat og salsa\, og flere andre morsomme aktiviteter både innendørs og utendørs ved bra vær.\nVi starter dagens program kl. 10. Ca. kl. 12:15 spiser vi en bra lunsj sammen\, som er inkludert i campen så du slipper å tenke på matpakke. Hver dag er vi ferdige innen kl. 15.
URL:https://www.salsanor.no/es/arrangement/ung-karibisk-sommer-camp/
LOCATION:Sentralen\, Øvre Slottsgate 3\, Oslo\, Oslo\, Norway
ATTACH;FMTTYPE=image/png:https://www.salsanor.no/wp-content/uploads/sites/19/2024/05/TROPISK-1920-x-1080-px-scaled.avif
ORGANIZER;CN="SalsaNor":MAILTO:post@salsanor.no
GEO:59.9110262;10.7400385
X-APPLE-STRUCTURED-LOCATION;VALUE=URI;X-ADDRESS=Sentralen Øvre Slottsgate 3 Oslo Oslo Norway;X-APPLE-RADIUS=500;X-TITLE=Øvre Slottsgate 3:geo:10.7400385,59.9110262
END:VEVENT
END:VCALENDAR