BEGIN:VCALENDAR
VERSION:2.0
PRODID:-//SalsaNor Norge - ECPv6.15.14//NONSGML v1.0//EN
CALSCALE:GREGORIAN
METHOD:PUBLISH
X-WR-CALNAME:SalsaNor Norge
X-ORIGINAL-URL:https://www.salsanor.no
X-WR-CALDESC:Arrangement for SalsaNor Norge
REFRESH-INTERVAL;VALUE=DURATION:PT1H
X-Robots-Tag:noindex
X-PUBLISHED-TTL:PT1H
BEGIN:VTIMEZONE
TZID:Europe/Oslo
BEGIN:DAYLIGHT
TZOFFSETFROM:+0100
TZOFFSETTO:+0200
TZNAME:CEST
DTSTART:20250330T010000
END:DAYLIGHT
BEGIN:STANDARD
TZOFFSETFROM:+0200
TZOFFSETTO:+0100
TZNAME:CET
DTSTART:20251026T010000
END:STANDARD
BEGIN:DAYLIGHT
TZOFFSETFROM:+0100
TZOFFSETTO:+0200
TZNAME:CEST
DTSTART:20260329T010000
END:DAYLIGHT
BEGIN:STANDARD
TZOFFSETFROM:+0200
TZOFFSETTO:+0100
TZNAME:CET
DTSTART:20261025T010000
END:STANDARD
BEGIN:DAYLIGHT
TZOFFSETFROM:+0100
TZOFFSETTO:+0200
TZNAME:CEST
DTSTART:20270328T010000
END:DAYLIGHT
BEGIN:STANDARD
TZOFFSETFROM:+0200
TZOFFSETTO:+0100
TZNAME:CET
DTSTART:20271031T010000
END:STANDARD
END:VTIMEZONE
BEGIN:VEVENT
DTSTART;TZID=Europe/Oslo:20260307T200000
DTEND;TZID=Europe/Oslo:20260308T010000
DTSTAMP:20260424T230110
CREATED:20260119T201052Z
LAST-MODIFIED:20260120T074751Z
UID:10000845-1772913600-1772931600@www.salsanor.no
SUMMARY:Cuban Live Night: La Gozadera
DESCRIPTION:Cuban Live Night: La Gozadera – Skatten Oslo (lør 7. mars)\nSted: Skatten Oslo · Dato: Lørdag 7. mars 2026 · Aldersgrense: 20 årTider: Salsakurs 20:00–21:00 (m/ Mario Acea) · Dørene 21:00 (DJ Sezar) · Konsert ca. 21:30 (2 sett) · DJ Piedra mellom/etter settene \nÅrets første av fire dansekonserter i 2026! La Gozadera samler noen av Norges fremste latinmusikere (flere fra Hovedøen Social Club) og serverer en danseklar miks av salsa\, krydret med cha cha cha\, bachata og en dæsj merengue. DJ Sezar åpner kvelden\, og DJ Piedra sørger for varme rytmer gjennom settene og ut i de små timer. \nLine-up – La Gozadera\n\nYusvier Iznaga (vokal)\nSverre Indris Joner (piano/kor)\nOle Marius Melhuus (kontrabass)\nEduardo Cedeño Rodriguez (perkusjon/kor)\nRuben Pirela (perkusjon)\nNils Andreas Grosås Granseth (trombone)\n\nSalsakurs før konserten (inkl. i pakke)\nÅpent nivå 20:00–21:00 med cubanske Mario Acea – perfekt for å lære/shine opp grunntrinnene før dansegulvet tar av.Pakke: Salsakurs + Cuban Live Night kr 490 (medlem 300). \nBilletter\n\n🎟 Forhåndskjøp: kr 220 (ord.) · kr 180 (medlem)\n🚪 I døra: kr 260 (ord.) · kr 220 (SalsaNor-medlem)\n🔗 Kjøp her: salsanor.ticketco.events/no/nb/e/gozadera7mars\n\nArrangør: SalsaNor i samarbeid med Skatten Oslo.Støttet av: Kulturrådet. \nHvorfor komme?✔️ Topp liveband + to DJ-er = maksimal danseglede✔️ Salsakurs med Mario Acea før konserten✔️ Den første av fire unike Cuban Live Night-kvelder i 2026
URL:https://www.salsanor.no/arrangement/cuban-live-night-la-gozadera-2/
LOCATION:Skatten\, Hagegata 24\, Oslo\, 0653\, Norge
CATEGORIES:2026,Konsert Oslo,oslo,Sosialdans,Sosialdans Oslo
ATTACH;FMTTYPE=image/jpeg:https://www.salsanor.no/wp-content/uploads/sites/19/2026/01/Cuban-Live-Night-5.4-FBarr-1920-x-1080-px-scaled.avif
ORGANIZER;CN="SalsaNor":MAILTO:post@salsanor.no
GEO:59.9144773;10.7750544
X-APPLE-STRUCTURED-LOCATION;VALUE=URI;X-ADDRESS=Skatten Hagegata 24 Oslo 0653 Norge;X-APPLE-RADIUS=500;X-TITLE=Hagegata 24:geo:10.7750544,59.9144773
END:VEVENT
BEGIN:VEVENT
DTSTART;TZID=Europe/Oslo:20260308T120000
DTEND;TZID=Europe/Oslo:20260308T140000
DTSTAMP:20260424T230110
CREATED:20260207T231433Z
LAST-MODIFIED:20260207T231433Z
UID:10000869-1772971200-1772978400@www.salsanor.no
SUMMARY:SalsaNor Årsmøte 2026 – Sentralen (Oslo)
DESCRIPTION:Alle som har betalt medlemskontingent for 2025 i SalsaNor er velkommen og har stemmerett. For å sikre plass til alle ber vi om skriftlig påmelding på e-post til post@salsanor.no. \nFrister (2026): \n\nInnsending av saker/forslag: søndag 22. februar (ihht. vedtektene: senest 2 uker før årsmøtet)\nKandidatur til valg (styre/vara): lørdag 28. februar\nPåmelding til årsmøtet: mandag 2. mars\n\nMøtedokumenter: Saksliste og dokumenter sendes på e-post til alle medlemmer etter at fristen for innsending av saker er passert. \nKontakt: post@salsanor.no \nVelkommen til årsmøte – og takk for at du bidrar til å utvikle SalsaNor videre!
URL:https://www.salsanor.no/arrangement/salsanor-arsmote-2026-sentralen-oslo/
LOCATION:Sentralen\, Øvre Slottsgate 3\, Oslo\, Oslo\, Norway
CATEGORIES:2026,Årsmøte
ATTACH;FMTTYPE=image/jpeg:https://www.salsanor.no/wp-content/uploads/sites/19/2026/02/Arsmote-2026-scaled.avif
ORGANIZER;CN="SalsaNor":MAILTO:post@salsanor.no
GEO:59.9110262;10.7400385
X-APPLE-STRUCTURED-LOCATION;VALUE=URI;X-ADDRESS=Sentralen Øvre Slottsgate 3 Oslo Oslo Norway;X-APPLE-RADIUS=500;X-TITLE=Øvre Slottsgate 3:geo:10.7400385,59.9110262
END:VEVENT
BEGIN:VEVENT
DTSTART;TZID=Europe/Oslo:20260308T133000
DTEND;TZID=Europe/Oslo:20260308T153000
DTSTAMP:20260424T230110
CREATED:20250408T213852Z
LAST-MODIFIED:20251218T090941Z
UID:10000693-1772976600-1772983800@www.salsanor.no
SUMMARY:SalsaNor Ung
DESCRIPTION:Er du mellom 15 og 23 år og ønsker å utforske salsa og andre latinske rytmer? Da er SalsaNor UNG det perfekte tilbudet for deg! Hver søndag fra 4. mai\, kl. 13:30–15:30 på Sentralen i Oslo (Øvre Slottsgate 3)\, inviterer vi til gratis workshops i blant annet salsa\, reggaeton\, rueda de casino og afro-cubanske bevegelser. \nDu betaler kun 50 kr for å bli medlem i SalsaNor UNG\, og deretter er kurset kostnadsfritt for alle 15–23-åringer. Medlemskapet betales kun én gang og varer helt fram til ut året du fyller 23. Her kan du bli medlem\, eller du kan melde deg inn første gang du kommer på Sentralen. \nHver søndag vil én eller flere av våre SalsaNor-instruktører holde workshop i salsa og én annen dans\, som kan variere mellom reggaeton\, rueda de casino\, afro-cubansk og kanskje dominikansk bachata. Ta med deg en venn eller flere og bli med! \nNB! I juli har vi sommerferie fra søndagsdansen\, men starter opp igjen fra søndag 10. august! \nSom medlem over 15 år får du i tillegg halv pris på våre ordinære kurstilbud\, slik at du kan utforske salsa og andre latinamerikanske danser på flere nivåer. Ukeskursene foregår mandager på Studio Orient i sentrum og tirsdager på Dancify på Hasle/Økern. Kurstilbudet vårt finner du her. \nSalsaNor har siden 1999 spredd danseglede og arrangerer kurs\, konserter og events over hele landet. Nå fortsetter vi suksessen med et ungt fokus\, så bli med du også! Her får du både nye venner\, muligheten til å holde deg i aktivitet\, og en unik kulturell opplevelse gjennom musikk og dans. \nHvorfor velge SalsaNor UNG?Gratis dansetilbud for deg mellom 15 og 23 årSalsa\, reggaeton og afro-cubansk – alt på ett stedSosialt og inkluderende miljø hver søndagSentral beliggenhet på Sentralen\, midt i OsloMedlemskap gir halv pris på øvrige SalsaNor-kurs for alle over 15 årHar du spørsmål?Ta gjerne kontakt med oss via salsanor.no for mer informasjon. Vi gleder oss til å danse med deg og dele den smittende energien fra cubanske og latinamerikanske rytmer!
URL:https://www.salsanor.no/arrangement/salsanor-ung/2026-03-08/
LOCATION:Sentralen\, Øvre Slottsgate 3\, Oslo\, Oslo\, Norway
CATEGORIES:2025,Åpent,oslo,SalsaNor Ung
ATTACH;FMTTYPE=image/jpeg:https://www.salsanor.no/wp-content/uploads/sites/19/2025/04/UNG-pa-Sentralen-1920-x-1080-px-scaled.avif
ORGANIZER;CN="SalsaNor":MAILTO:post@salsanor.no
GEO:59.9110262;10.7400385
X-APPLE-STRUCTURED-LOCATION;VALUE=URI;X-ADDRESS=Sentralen Øvre Slottsgate 3 Oslo Oslo Norway;X-APPLE-RADIUS=500;X-TITLE=Øvre Slottsgate 3:geo:10.7400385,59.9110262
END:VEVENT
BEGIN:VEVENT
DTSTART;TZID=Europe/Oslo:20260309T191500
DTEND;TZID=Europe/Oslo:20260309T204500
DTSTAMP:20260424T230110
CREATED:20260206T183626Z
LAST-MODIFIED:20260206T184211Z
UID:10000866-1773083700-1773089100@www.salsanor.no
SUMMARY:Salsa 2+1 med Mario Acea – én fører\, to følgere
DESCRIPTION:Salsa 2+1 med Mario Acea – én fører\, to følgere (videregående)Dato: Mandag 9. mars 2026 · Tid: 19:15–20:45 (90 min)Sted: Studio Orient\, Arbeidergata 4\, 0159 Oslo (Sentrum)Instruktør: Mario Acea · Nivå: Salsa videregående \nOpplev Salsa 2+1 – en leken og dynamisk variant der én fører danser med to følgere samtidig. Her skjerpes tegn/føring\, reaksjonsevne\, flyt og koordinasjon hos alle tre. Mario legger ekstra vekt på tydelige signaler\, følgernes rolle og smarte utfordringer som løfter både musikalitet\, samspill og energi på gulvet. \nDu får\n\nStruktur for 2+1-formatet (roller\, rammer\, håndtegn\, sikker rotasjon)\nFøring/føling med to partnere\, balansetempo og plassering\nKorte kombinasjoner som sitter i musikken – klare for sosialdans\n\nPraktisk\n\n💸 Pris: kr 350 (SalsaNor-medlemsrabatt – kr 70)\n👥 Påmelding/roller: Vi prøver å balansere plasser for fører / 2 følgere.\n👟 Skotøy: Innesko i salene (garderobe og dusj tilgjengelig).\n📣 Følg: facebook.com/salsanor.oslo · ✉️ Spørsmål: oslo@salsanor.no\n\nOm Mario Acea\nProfesjonell danser fra Cienfuegos\, Cuba; tidligere hoveddanser/koreograf i Ballet Folklórico de Trinidad. Mangeårig instruktør hos SalsaNor før han flyttet til Gran Canaria i 2020 – kjent for solid pedagogikk og ekte cubansk energi. \nVelkommen til SalsaNor – skarpere signaler\, større smil og maks danseglede!
URL:https://www.salsanor.no/arrangement/salsa-21-med-mario-acea-en-forer-to-folgere/
LOCATION:Studio Orient\, Arbeidergata 4\, Oslo\, 0159
CATEGORIES:2026,Cuban / Casino,Mandagsworkshop,oslo,Viderekommen,Workshops
ATTACH;FMTTYPE=image/jpeg:https://www.salsanor.no/wp-content/uploads/sites/19/2026/02/Sabor-Cubano-mario-acea-scaled.avif
ORGANIZER;CN="SalsaNor":MAILTO:post@salsanor.no
GEO:59.9141962;10.740927
X-APPLE-STRUCTURED-LOCATION;VALUE=URI;X-ADDRESS=Studio Orient Arbeidergata 4 Oslo 0159;X-APPLE-RADIUS=500;X-TITLE=Arbeidergata 4:geo:10.740927,59.9141962
END:VEVENT
BEGIN:VEVENT
DTSTART;TZID=Europe/Oslo:20260315T133000
DTEND;TZID=Europe/Oslo:20260315T153000
DTSTAMP:20260424T230110
CREATED:20250408T213852Z
LAST-MODIFIED:20251218T090941Z
UID:10000694-1773581400-1773588600@www.salsanor.no
SUMMARY:SalsaNor Ung
DESCRIPTION:Er du mellom 15 og 23 år og ønsker å utforske salsa og andre latinske rytmer? Da er SalsaNor UNG det perfekte tilbudet for deg! Hver søndag fra 4. mai\, kl. 13:30–15:30 på Sentralen i Oslo (Øvre Slottsgate 3)\, inviterer vi til gratis workshops i blant annet salsa\, reggaeton\, rueda de casino og afro-cubanske bevegelser. \nDu betaler kun 50 kr for å bli medlem i SalsaNor UNG\, og deretter er kurset kostnadsfritt for alle 15–23-åringer. Medlemskapet betales kun én gang og varer helt fram til ut året du fyller 23. Her kan du bli medlem\, eller du kan melde deg inn første gang du kommer på Sentralen. \nHver søndag vil én eller flere av våre SalsaNor-instruktører holde workshop i salsa og én annen dans\, som kan variere mellom reggaeton\, rueda de casino\, afro-cubansk og kanskje dominikansk bachata. Ta med deg en venn eller flere og bli med! \nNB! I juli har vi sommerferie fra søndagsdansen\, men starter opp igjen fra søndag 10. august! \nSom medlem over 15 år får du i tillegg halv pris på våre ordinære kurstilbud\, slik at du kan utforske salsa og andre latinamerikanske danser på flere nivåer. Ukeskursene foregår mandager på Studio Orient i sentrum og tirsdager på Dancify på Hasle/Økern. Kurstilbudet vårt finner du her. \nSalsaNor har siden 1999 spredd danseglede og arrangerer kurs\, konserter og events over hele landet. Nå fortsetter vi suksessen med et ungt fokus\, så bli med du også! Her får du både nye venner\, muligheten til å holde deg i aktivitet\, og en unik kulturell opplevelse gjennom musikk og dans. \nHvorfor velge SalsaNor UNG?Gratis dansetilbud for deg mellom 15 og 23 årSalsa\, reggaeton og afro-cubansk – alt på ett stedSosialt og inkluderende miljø hver søndagSentral beliggenhet på Sentralen\, midt i OsloMedlemskap gir halv pris på øvrige SalsaNor-kurs for alle over 15 årHar du spørsmål?Ta gjerne kontakt med oss via salsanor.no for mer informasjon. Vi gleder oss til å danse med deg og dele den smittende energien fra cubanske og latinamerikanske rytmer!
URL:https://www.salsanor.no/arrangement/salsanor-ung/2026-03-15/
LOCATION:Sentralen\, Øvre Slottsgate 3\, Oslo\, Oslo\, Norway
CATEGORIES:2025,Åpent,oslo,SalsaNor Ung
ATTACH;FMTTYPE=image/jpeg:https://www.salsanor.no/wp-content/uploads/sites/19/2025/04/UNG-pa-Sentralen-1920-x-1080-px-scaled.avif
ORGANIZER;CN="SalsaNor":MAILTO:post@salsanor.no
GEO:59.9110262;10.7400385
X-APPLE-STRUCTURED-LOCATION;VALUE=URI;X-ADDRESS=Sentralen Øvre Slottsgate 3 Oslo Oslo Norway;X-APPLE-RADIUS=500;X-TITLE=Øvre Slottsgate 3:geo:10.7400385,59.9110262
END:VEVENT
BEGIN:VEVENT
DTSTART;TZID=Europe/Oslo:20260316T191500
DTEND;TZID=Europe/Oslo:20260316T204500
DTSTAMP:20260424T230110
CREATED:20260206T184133Z
LAST-MODIFIED:20260206T184133Z
UID:10000867-1773688500-1773693900@www.salsanor.no
SUMMARY:Rueda con Sabor Cubano
DESCRIPTION:Workshop: Rueda con Sabor Cubano (videregående) m/ Mario AceaDato: Mandag 16. mars 2026 · Tid: 19:15–20:45 (90 min)Sted: Studio Orient\, Arbeidergata 4\, 0159 Oslo (Sentrum)Instruktør: Mario Acea · Nivå: Rueda – videregåendePris: kr 350 (SalsaNor-medlemsrabatt – kr 70) \nRueda con Sabor Cubano er rueda fylt med kubansk lekenhet\, raske skift og musikalsk improvisasjon. Vi jobber med de la calle-elementer på videregående nivå og mer komplekse variasjoner som øker energi\, flyt og samspill i ringen. 90 minutter ren rueda-glede – for deg som vil skru opp nivået på koordinasjon\, timing og uttrykk. \nDu får\n\nVideregående figurer og variasjoner i cubansk rueda\nTempo- og retningsskift\, presise kall og trygg rotasjon\nTips for musikalitet\, improvisasjon og sosialdans\n\nPraktisk\n\n👟 Innesko i salene (garderobe/dusj tilgjengelig)\n👥 Partner trengs ikke – vi roterer i ringen\n📣 Følg oss: facebook.com/salsanor.oslo · ✉️ Spørsmål: oslo@salsanor.no\n\nOm Mario Acea\nProfesjonell danser fra Cienfuegos\, Cuba; tidligere hoveddanser/koreograf i Ballet Folklórico de Trinidad. Mangeårig instruktør hos SalsaNor\, i dag basert på Gran Canaria – kjent for tydelig pedagogikk og ekte cubansk energi. \nVelkommen til SalsaNor – rueda med smak av Cuba!
URL:https://www.salsanor.no/arrangement/rueda-con-sabor-cubano/
LOCATION:Studio Orient\, Arbeidergata 4\, Oslo\, 0159
CATEGORIES:2026,Cuban / Casino,Mandagsworkshop,oslo,Viderekommen,Workshops
ATTACH;FMTTYPE=image/jpeg:https://www.salsanor.no/wp-content/uploads/sites/19/2026/02/Sabor-Cubano-mario-acea-2-scaled.avif
ORGANIZER;CN="SalsaNor":MAILTO:post@salsanor.no
GEO:59.9141962;10.740927
X-APPLE-STRUCTURED-LOCATION;VALUE=URI;X-ADDRESS=Studio Orient Arbeidergata 4 Oslo 0159;X-APPLE-RADIUS=500;X-TITLE=Arbeidergata 4:geo:10.740927,59.9141962
END:VEVENT
BEGIN:VEVENT
DTSTART;TZID=Europe/Oslo:20260322T133000
DTEND;TZID=Europe/Oslo:20260322T153000
DTSTAMP:20260424T230110
CREATED:20250408T213852Z
LAST-MODIFIED:20251218T090941Z
UID:10000695-1774186200-1774193400@www.salsanor.no
SUMMARY:SalsaNor Ung
DESCRIPTION:Er du mellom 15 og 23 år og ønsker å utforske salsa og andre latinske rytmer? Da er SalsaNor UNG det perfekte tilbudet for deg! Hver søndag fra 4. mai\, kl. 13:30–15:30 på Sentralen i Oslo (Øvre Slottsgate 3)\, inviterer vi til gratis workshops i blant annet salsa\, reggaeton\, rueda de casino og afro-cubanske bevegelser. \nDu betaler kun 50 kr for å bli medlem i SalsaNor UNG\, og deretter er kurset kostnadsfritt for alle 15–23-åringer. Medlemskapet betales kun én gang og varer helt fram til ut året du fyller 23. Her kan du bli medlem\, eller du kan melde deg inn første gang du kommer på Sentralen. \nHver søndag vil én eller flere av våre SalsaNor-instruktører holde workshop i salsa og én annen dans\, som kan variere mellom reggaeton\, rueda de casino\, afro-cubansk og kanskje dominikansk bachata. Ta med deg en venn eller flere og bli med! \nNB! I juli har vi sommerferie fra søndagsdansen\, men starter opp igjen fra søndag 10. august! \nSom medlem over 15 år får du i tillegg halv pris på våre ordinære kurstilbud\, slik at du kan utforske salsa og andre latinamerikanske danser på flere nivåer. Ukeskursene foregår mandager på Studio Orient i sentrum og tirsdager på Dancify på Hasle/Økern. Kurstilbudet vårt finner du her. \nSalsaNor har siden 1999 spredd danseglede og arrangerer kurs\, konserter og events over hele landet. Nå fortsetter vi suksessen med et ungt fokus\, så bli med du også! Her får du både nye venner\, muligheten til å holde deg i aktivitet\, og en unik kulturell opplevelse gjennom musikk og dans. \nHvorfor velge SalsaNor UNG?Gratis dansetilbud for deg mellom 15 og 23 årSalsa\, reggaeton og afro-cubansk – alt på ett stedSosialt og inkluderende miljø hver søndagSentral beliggenhet på Sentralen\, midt i OsloMedlemskap gir halv pris på øvrige SalsaNor-kurs for alle over 15 årHar du spørsmål?Ta gjerne kontakt med oss via salsanor.no for mer informasjon. Vi gleder oss til å danse med deg og dele den smittende energien fra cubanske og latinamerikanske rytmer!
URL:https://www.salsanor.no/arrangement/salsanor-ung/2026-03-22/
LOCATION:Sentralen\, Øvre Slottsgate 3\, Oslo\, Oslo\, Norway
CATEGORIES:2025,Åpent,oslo,SalsaNor Ung
ATTACH;FMTTYPE=image/jpeg:https://www.salsanor.no/wp-content/uploads/sites/19/2025/04/UNG-pa-Sentralen-1920-x-1080-px-scaled.avif
ORGANIZER;CN="SalsaNor":MAILTO:post@salsanor.no
GEO:59.9110262;10.7400385
X-APPLE-STRUCTURED-LOCATION;VALUE=URI;X-ADDRESS=Sentralen Øvre Slottsgate 3 Oslo Oslo Norway;X-APPLE-RADIUS=500;X-TITLE=Øvre Slottsgate 3:geo:10.7400385,59.9110262
END:VEVENT
BEGIN:VEVENT
DTSTART;TZID=Europe/Oslo:20260329T133000
DTEND;TZID=Europe/Oslo:20260329T153000
DTSTAMP:20260424T230110
CREATED:20250408T213852Z
LAST-MODIFIED:20251218T090941Z
UID:10000696-1774791000-1774798200@www.salsanor.no
SUMMARY:SalsaNor Ung
DESCRIPTION:Er du mellom 15 og 23 år og ønsker å utforske salsa og andre latinske rytmer? Da er SalsaNor UNG det perfekte tilbudet for deg! Hver søndag fra 4. mai\, kl. 13:30–15:30 på Sentralen i Oslo (Øvre Slottsgate 3)\, inviterer vi til gratis workshops i blant annet salsa\, reggaeton\, rueda de casino og afro-cubanske bevegelser. \nDu betaler kun 50 kr for å bli medlem i SalsaNor UNG\, og deretter er kurset kostnadsfritt for alle 15–23-åringer. Medlemskapet betales kun én gang og varer helt fram til ut året du fyller 23. Her kan du bli medlem\, eller du kan melde deg inn første gang du kommer på Sentralen. \nHver søndag vil én eller flere av våre SalsaNor-instruktører holde workshop i salsa og én annen dans\, som kan variere mellom reggaeton\, rueda de casino\, afro-cubansk og kanskje dominikansk bachata. Ta med deg en venn eller flere og bli med! \nNB! I juli har vi sommerferie fra søndagsdansen\, men starter opp igjen fra søndag 10. august! \nSom medlem over 15 år får du i tillegg halv pris på våre ordinære kurstilbud\, slik at du kan utforske salsa og andre latinamerikanske danser på flere nivåer. Ukeskursene foregår mandager på Studio Orient i sentrum og tirsdager på Dancify på Hasle/Økern. Kurstilbudet vårt finner du her. \nSalsaNor har siden 1999 spredd danseglede og arrangerer kurs\, konserter og events over hele landet. Nå fortsetter vi suksessen med et ungt fokus\, så bli med du også! Her får du både nye venner\, muligheten til å holde deg i aktivitet\, og en unik kulturell opplevelse gjennom musikk og dans. \nHvorfor velge SalsaNor UNG?Gratis dansetilbud for deg mellom 15 og 23 årSalsa\, reggaeton og afro-cubansk – alt på ett stedSosialt og inkluderende miljø hver søndagSentral beliggenhet på Sentralen\, midt i OsloMedlemskap gir halv pris på øvrige SalsaNor-kurs for alle over 15 årHar du spørsmål?Ta gjerne kontakt med oss via salsanor.no for mer informasjon. Vi gleder oss til å danse med deg og dele den smittende energien fra cubanske og latinamerikanske rytmer!
URL:https://www.salsanor.no/arrangement/salsanor-ung/2026-03-29/
LOCATION:Sentralen\, Øvre Slottsgate 3\, Oslo\, Oslo\, Norway
CATEGORIES:2025,Åpent,oslo,SalsaNor Ung
ATTACH;FMTTYPE=image/jpeg:https://www.salsanor.no/wp-content/uploads/sites/19/2025/04/UNG-pa-Sentralen-1920-x-1080-px-scaled.avif
ORGANIZER;CN="SalsaNor":MAILTO:post@salsanor.no
GEO:59.9110262;10.7400385
X-APPLE-STRUCTURED-LOCATION;VALUE=URI;X-ADDRESS=Sentralen Øvre Slottsgate 3 Oslo Oslo Norway;X-APPLE-RADIUS=500;X-TITLE=Øvre Slottsgate 3:geo:10.7400385,59.9110262
END:VEVENT
END:VCALENDAR